{"text_format":"1","workbook":"xlsx","n_sheets":1,"sheets":["Sheet1"],"not_rendered":{"charts":0,"images":0,"macros":1,"external_links":1,"defined_names":22,"comments":0,"pivot_tables":0},"unopened":[],"bounds":{"document_bytes":16777216,"sheet_cells":100000,"rows_first":2000,"rows_last":500,"rows_between":2000,"halvings":0,"cell_chars":16384,"cell_head_chars":4096},"cells_cut":0,"cells_raw":0,"read":"whole","date_system":"1900"}

{"sheet":"Sheet1","index":0,"n_rows":101,"n_cols":25,"rows_kept":101,"cut":false,"hidden":false,"merged":[[99,0,99,1],[100,0,100,1],[101,0,101,1],[21,0,21,1],[94,0,94,1],[95,0,95,1],[96,0,96,1],[97,0,97,1],[98,0,98,1],[89,0,89,1],[90,0,90,1],[91,0,91,1],[92,0,92,1],[93,0,93,1],[84,0,84,1],[85,0,85,1],[86,0,86,1],[87,0,87,1],[88,0,88,1],[79,0,79,1],[80,0,80,1],[81,0,81,1],[82,0,82,1],[83,0,83,1],[74,0,74,1],[75,0,75,1],[76,0,76,1],[77,0,77,1],[78,0,78,1],[69,0,69,1],[70,0,70,1],[71,0,71,1],[72,0,72,1],[73,0,73,1],[64,0,64,1],[65,0,65,1],[66,0,66,1],[67,0,67,1],[68,0,68,1],[59,0,59,1],[60,0,60,1],[61,0,61,1],[62,0,62,1],[63,0,63,1],[54,0,54,1],[55,0,55,1],[56,0,56,1],[57,0,57,1],[58,0,58,1],[49,0,49,1],[50,0,50,1],[51,0,51,1],[52,0,52,1],[53,0,53,1],[44,0,44,1],[45,0,45,1],[46,0,46,1],[47,0,47,1],[48,0,48,1],[39,0,39,1],[40,0,40,1],[41,0,41,1],[42,0,42,1],[43,0,43,1],[34,0,34,1],[35,0,35,1],[36,0,36,1],[37,0,37,1],[38,0,38,1],[29,0,29,1],[30,0,30,1],[31,0,31,1],[32,0,32,1],[33,0,33,1],[28,0,28,1],[17,0,17,1],[18,0,18,1],[22,0,22,1],[23,0,23,1],[19,0,19,1],[20,0,20,1],[16,0,16,1],[10,5,10,6],[15,0,15,1],[9,0,10,0],[11,0,12,0],[11,6,12,6],[10,4,12,4],[8,11,8,12],[24,0,24,1],[25,0,25,1],[26,0,26,1],[9,11,9,12],[10,11,10,12],[11,11,11,12],[13,6,13,9],[27,0,27,1],[8,6,8,7],[9,6,9,7],[6,4,8,4],[5,0,6,0],[7,0,8,0],[7,13,7,14],[4,11,4,12],[5,11,5,12],[6,11,6,12],[4,13,4,14],[5,13,5,14],[6,13,6,14],[7,11,7,12],[3,6,3,7],[4,6,4,7],[5,6,5,7],[6,6,6,7],[7,6,7,7],[0,0,0,1],[0,2,0,4],[0,5,0,9],[0,10,0,12],[0,13,0,15],[1,3,1,4],[2,3,2,4],[3,3,3,4],[1,11,1,12],[2,11,2,12],[3,11,3,12],[1,13,1,14],[2,13,2,14],[3,13,3,14],[1,6,1,7],[2,6,2,7]]}
["株羅針盤より",null,"トレード銘柄",null,null,"先物　新規注文",null,null,null,null,"先物　注文訂正",null,null,"先物　注文取消",null,null,{"$f":"[1]!FOPPOSITION(\"建玉番号\",Q3,\"0\")","v":{"$error":"#NAME?"}},{"$f":"[1]!FOPPOSITION(\"銘柄名\",R3,\"0\")","v":{"$error":"#NAME?"}},{"$f":"[1]!FOPPOSITION(\"売買\",S3,\"0\")","v":{"$error":"#NAME?"}},{"$f":"[1]!FOPPOSITION(\"建玉日\",T3,\"0\")","v":{"$error":"#NAME?"}},{"$f":"[1]!FOPPOSITION(\"建玉単価\",U3,\"0\")","v":{"$error":"#NAME?"}},{"$f":"[1]!FOPPOSITION(\"数量\",V3,\"0\")","v":{"$error":"#NAME?"}},{"$f":"[1]!FOPPOSITION(\"決済注文中数量\",W3,\"0\")","v":{"$error":"#NAME?"}},{"$f":"[1]!FOPPOSITION(\"評価損益額\",X3,\"0\")","v":{"$error":"#NAME?"}},{"$f":"[1]!FOPPOSITION(\"評価損益率\",Y3,\"0\")","v":{"$error":"#NAME?"}}]
["コード",null,"コード","N225mini",null,"1)先物コード","N225mini",null,"10)確認",1,"1)注文番号",null,null,"1)注文番号",null,null,"建玉番号","銘柄名","売買","建玉日","建玉単価","数量","決済注文中","評価損益額","評価損益率"]
["呼出　株価",null,"銘柄名",{"$f":"[1]!FQUOTE(D2,\"0\",\"銘柄名\")","v":{"$error":"#NAME?"}},null,"2)限月",0,null,"11)注文完了",1,"2)執行条件",13,null,"2)待機中取消",null,0]
["売買マーク",null,"現在値",{"$f":"[1]!FQUOTE(D2,\"0\",\"現在値\")","v":{"$error":"#NAME?"}},null,"3)取引種類",2,null,"12)注文画面",1,"3)単価",null,null,"3)確認",null,1]
[null,null,{"$f":"\"(\"&[1]!FQUOTE(D2,\"0\",\"現在値時刻\")&\")\"","v":{"$error":"#NAME?"}},"単 価","数 量","4)建玉番号",null,null,"13)パスワ-ド",null,"4)数量",null,null,"4)注文完了",null,1]
["1:買い仕掛け","仕掛単価±",0,0,0,"5)建玉枝番号",1,null,"14)発注ID",null,"5)確認",1,null,"5)注文画面",null,1]
[null,"追跡指値",120,0,null,"6)売買区分",3,null,"15)有効期間",1,"6)注文完了",1,null,"6)パスワード"]
["1:買の決済売","損切監視",80,0,null,"7)執行条件",13,null,"16)メモ",null,"7)注文画面",1,null,"7)発注ID"]
[null,"利確監視",250,0,null,"8)単価",0,null,"17)発注条件",0,"8)パスワード"]
["1:売り仕掛け","仕掛単価±",0,0,0,"9)数量",1,null,"18)発注単価",0,"9)発注ID"]
[null,"追跡指値",120,0,null,"新規発注時  数量",null,1,"大引け決済","0:しない","10)発注条件"]
["1:売の決済買","損切監視",80,0,null,"損切金額監視",0,null,null,null,"11)発注単価"]
[null,"利確監視",450,0,null,15000]
["0:処理待機中",0,0,"(^-^)","トレード","スタート","--- NoError ---"]
[{"$f":"[1]!FOPORDQUERY(\"4\",\"2\",\"注文番号\",A17)","v":{"$error":"#NAME?"}},null,{"$f":"J13=[1]!FOPORDQUERY(\"4\",\"2\",\"銘柄名\",C17)","v":{"$error":"#NAME?"}},{"$f":"[1]!FOPORDQUERY(\"4\",\"2\",\"売買\",D17)","v":{"$error":"#NAME?"}},{"$f":"[1]!FOPORDQUERY(\"4\",\"2\",\"取引種別\",E17)","v":{"$error":"#NAME?"}},{"$f":"[1]!FOPORDQUERY(\"4\",\"2\",\"執行条件\",F17)","v":{"$error":"#NAME?"}},{"$f":"[1]!FOPORDQUERY(\"4\",\"2\",\"トリガー条件\",G17)","v":{"$error":"#NAME?"}},{"$f":"[1]!FOPORDQUERY(\"4\",\"2\",\"注文単価\",H17)","v":{"$error":"#NAME?"}},{"$f":"[1]!FOPORDQUERY(\"4\",\"2\",\"注文数量\",I17)","v":{"$error":"#NAME?"}},{"$f":"[1]!FOPORDQUERY(\"4\",\"2\",\"約定数量\",J17)","v":{"$error":"#NAME?"}},{"$f":"[1]!FOPORDQUERY(\"4\",\"2\",\"受付日時\",K17)","v":{"$error":"#NAME?"}},{"$f":"[1]!FOPORDQUERY(\"4\",\"2\",\"注文状態\",L17)","v":{"$error":"#NAME?"}},null,{"$f":"[1]!FOPEXEC(\"売買\",N17)","v":{"$error":"#NAME?"}},{"$f":"[1]!FOPEXEC(\"取引種別\",O17)","v":{"$error":"#NAME?"}},{"$f":"[1]!FOPEXEC(\"注文番号\",P17)","v":{"$error":"#NAME?"}},{"$f":"[1]!FOPEXEC(\"約定番号\",Q17)","v":{"$error":"#NAME?"}},{"$f":"[1]!FOPEXEC(\"銘柄名\",R17)","v":{"$error":"#NAME?"}},{"$f":"[1]!FOPEXEC(\"注文数量\",S17)","v":{"$error":"#NAME?"}},{"$f":"[1]!FOPEXEC(\"約定日\",T17)","v":{"$error":"#NAME?"}},{"$f":"[1]!FOPEXEC(\"約定時刻\",U17)","v":{"$error":"#NAME?"}},{"$f":"[1]!FOPEXEC(\"約定単価\",V17)","v":{"$error":"#NAME?"}},{"$f":"[1]!FOPEXEC(\"約定数量\",W17)","v":{"$error":"#NAME?"}},{"$f":"[1]!FOPEXEC(\"約定金額\",X17)","v":{"$error":"#NAME?"}},{"$f":"[1]!FOPEXEC(\"メモ\",Y17)","v":{"$error":"#NAME?"}}]
["注文番号",null,"銘柄名","売買","取引種別","執行条件","トリガー条件","注文単価","注文数量","約定数量","受付日時","注文状態",null,"売買","取引種別","注文番号","約定番号","銘柄名","注文数量","約定日","約定時刻","約定単価","約定数量","約定金額","メモ"]
[]
[]
[]
[]
[]
[]
[]
[]
[]
[]
[]
[]
[]
[]
[]
[]
[]
[]
[]
[]
[]
[]
[]
[]
[]
[]
[]
[]
[]
[]
[]
[]
[]
[]
[]
[]
[]
[]
[]
[]
[]
[]
[]
[]
[]
[]
[]
[]
[]
[]
[]
[]
[]
[]
[]
[]
[]
[]
[]
[]
[]
[]
[]
[]
[]
[]
[]
[]
[]
[]
[]
[]
[]
[]
[]
[]
[]
[]
[]
[]
[]
[]
[]
[]
["***END***",null,"***END***","***END***","***END***","***END***","***END***","***END***","***END***","***END***","***END***","***END***"]